BEGIN:VCALENDAR
VERSION:2.0
PRODID:-//hacksw/handcal//NONSGML v1.0//EN
BEGIN:VEVENT
SUMMARY:RANDO SUBVENTIONNEE "LES BALCONS DU BUGEY"
UID:ae73f175-e24b-4845-8ec7-b89d454b2b2d
DTSTART:20260501T050000Z
DTEND:20260501T080000Z
LOCATION:Localisation Camping de la Vallee Bleue 38390 MONTALIEU VERCIEU
CATEGORIES:Sportif
STATUS:
URL;VALUE=URI:https://miribel-vtt.sportsregions.fr/evenements/2026/05/01/rando-subventionnee-les-balcons-du-bugey-2440797
END:VEVENT
END:VCALENDAR
