BEGIN:VCALENDAR
VERSION:2.0
PRODID:-//hacksw/handcal//NONSGML v1.0//EN
BEGIN:VEVENT
SUMMARY:RANDO VTT SUBVENTIONEE " L'IRIGNOISE"
UID:60d6a6d2-b642-4081-bcf1-029f77efc0a6
DTSTART:20260426T053000Z
DTEND:20260426T090000Z
LOCATION:Localisation   
CATEGORIES:Sportif
STATUS:
DESCRIPTION:<p>Date: 26/04/2026 Departement: 69</p>
 
 <p>Lieu: IRIGNY
 Nom de la rando: IRIGNOISE -</p>
 
 <p>20eme Edition Organisateur: JSI
 CYCLO</p>
 
 <p>Lieu de R-d-V: SALLE CLAUDIUS LACROIX, 31 CHEMIN DE
 CHAMPVILLARD</p>
 
 <p>Horaires: de 07h30 a 11h00</p>
 
 <p>Site:
 www.jsicyclo.fr Site: www.jsicyclo.fr</p>
 
 <p>Prix public : 11 €
 Prix club : 8 €</p>
 
 <p>Contact : Voir site Veloenfrance.fr ou
 celui de l'organisateur Description : *</p>
 
 <p>VTT : 20km |
 deniv.200m - 35km | deniv.400m - 45km | deniv.600m - 55km |
 deniv.900m *</p>
 
 <p>Cyclo : 50km | deniv.700m - 75km | deniv.1000m -
 90km | deniv.1300m - 120km | deniv.1850m *</p>
 
 <p>Marche : 10 - 18km
 *</p>
 
 <p>Gravel : 65km | deniv.650m Lieu de depart different des
 editions precedentes mais dans la meme zone</p>
URL;VALUE=URI:https://miribel-vtt.sportsregions.fr/evenements/2026/04/26/rando-vtt-subventionee-lirignoise-2440656
END:VEVENT
END:VCALENDAR
