BEGIN:VCALENDAR
VERSION:2.0
PRODID:-//hacksw/handcal//NONSGML v1.0//EN
BEGIN:VEVENT
SUMMARY:Rallye des vergers a CHARLY
UID:ecc7b0ff-855f-4268-9da5-9e1826a56d83
DTSTART:20260412T050000Z
DTEND:20260412T120000Z
LOCATION:Localisation Espace Melchior Philibert- rue de la maconniere 69390 CHARLY
CATEGORIES:Manifestation
STATUS:
DESCRIPTION:<p>Circuit VTT 20 - 32 - 42 - 52 Km</p>
URL;VALUE=URI:https://miribel-vtt.sportsregions.fr/evenements/2026/04/12/rallye-des-vergers-a-charly-2430915
END:VEVENT
END:VCALENDAR
