BEGIN:VCALENDAR
VERSION:2.0
PRODID:-//hacksw/handcal//NONSGML v1.0//EN
BEGIN:VEVENT
SUMMARY:RANDO VTT "ENTRE VIGNES ET PIERRE DOREES" 69210 ST GERMAIN NUELLES
UID:72bfb4b4-40ad-4e2d-bbc0-c518da4f5085
DTSTART:20260405T050000Z
DTEND:20260405T120000Z
LOCATION:Localisation GYMNASE DU COLOMBIER - IMPASSE DU COLOMBIER 69210 ST GERMAIN DE NUELLES
CATEGORIES:Sportif
STATUS:
DESCRIPTION:<p>VTT: 15 km-25 km-35 km-47 km-60 km</p>
 
 <p>TARIF FFCT:
 9€</p>
 
 <p>DE 7h a 14h</p>
 
 <p>GYMENASE DU COLOMBIER - IMPASSE DU
 COLOMBIER - 69210 ST GERMAIN DE NUELLES</p>
 
 <p>CONTACT: Thierry
 BOISLEME - 06 88 90 87 57 -</p>
 
 <p>mail: club@bscstgermain.fr</p>
URL;VALUE=URI:https://miribel-vtt.sportsregions.fr/evenements/2026/04/05/rando-vtt-entre-vignes-et-pierre-dorees-69210-st-germain-nuelles-2430701
END:VEVENT
END:VCALENDAR
