BEGIN:VCALENDAR
VERSION:2.0
PRODID:-//hacksw/handcal//NONSGML v1.0//EN
BEGIN:VEVENT
SUMMARY:RANDO FFCT "LA CEYZEREVERMONT" 01250 CIZE
UID:369804c7-e034-4dde-8fa8-706e144a2f52
DTSTART:20260405T053000Z
DTEND:20260405T130000Z
LOCATION:Localisation SALLE DES FETES 01250 CIZE
CATEGORIES:Sportif
STATUS:
DESCRIPTION:<p>VTT / 25KM - 45KM - 50KM</p>
 
 <p>TARIF FFCT:
 7€</p>
 
 <p>CONTACT: Cedric CHAVEYRIAT - 06 63 68 05 08 -
 cedric.chaveyriat@free.fr</p>
 
 <p>https: /
 crvtt-ceyzeriat01vtt.wifeo.com</p>
URL;VALUE=URI:https://miribel-vtt.sportsregions.fr/evenements/2026/04/05/rando-ffct-la-ceyzerevermont-01250-cize-2430533
END:VEVENT
END:VCALENDAR
